BEGIN:VCALENDAR
VERSION:2.0
PRODID:-//Barry Community Choir - ECPv6.13.2.1//NONSGML v1.0//EN
CALSCALE:GREGORIAN
METHOD:PUBLISH
X-WR-CALNAME:Barry Community Choir
X-ORIGINAL-URL:https://www.barrycommunitychoir.com
X-WR-CALDESC:Events for Barry Community Choir
REFRESH-INTERVAL;VALUE=DURATION:PT1H
X-Robots-Tag:noindex
X-PUBLISHED-TTL:PT1H
BEGIN:VTIMEZONE
TZID:Europe/London
BEGIN:DAYLIGHT
TZOFFSETFROM:+0000
TZOFFSETTO:+0100
TZNAME:BST
DTSTART:20250330T010000
END:DAYLIGHT
BEGIN:STANDARD
TZOFFSETFROM:+0100
TZOFFSETTO:+0000
TZNAME:GMT
DTSTART:20251026T010000
END:STANDARD
END:VTIMEZONE
BEGIN:VEVENT
DTSTART;TZID=Europe/London:20250903T190000
DTEND;TZID=Europe/London:20250903T203000
DTSTAMP:20260420T120529
CREATED:20250825T121351Z
LAST-MODIFIED:20250825T121351Z
UID:986-1756926000-1756931400@www.barrycommunitychoir.com
SUMMARY:Return to Rehearsals
DESCRIPTION:Following a great summer of fantastic performances in and around the area\, we return to rehearsals on 3rd September 2025 to start on learning new repertoire\, getting ready for Christmas. Come along and start the new term with us.
URL:https://www.barrycommunitychoir.com/event/return-to-rehearsals/
LOCATION:St John Methodist Church\, Friars Road\, Barry Island\, CF62 5TR\, United Kingdom
ATTACH;FMTTYPE=image/png:https://www.barrycommunitychoir.com/wp-content/uploads/2025/04/Rehearsal.png
END:VEVENT
BEGIN:VEVENT
DTSTART;TZID=Europe/London:20250924T190000
DTEND;TZID=Europe/London:20250924T203000
DTSTAMP:20260420T120529
CREATED:20250825T120318Z
LAST-MODIFIED:20250825T120318Z
UID:982-1758740400-1758745800@www.barrycommunitychoir.com
SUMMARY:Choir & Cake Taster
DESCRIPTION:Interested in joining a choir? Looking for a completely new hobby? \nIf you want to try us out\, join us for an open rehearsal AND CAKE. No obligation\, just come along to sit and listen or join in the singing – it’s up to you. You can be sure of a warm welcome followed by a cuppa and some great homemade cake.
URL:https://www.barrycommunitychoir.com/event/choir-cake-taster/
LOCATION:St John Methodist Church\, Friars Road\, Barry Island\, CF62 5TR\, United Kingdom
ATTACH;FMTTYPE=image/jpeg:https://www.barrycommunitychoir.com/wp-content/uploads/2025/08/1000007661-e1758644274197.jpg
END:VEVENT
END:VCALENDAR