BEGIN:VCALENDAR
VERSION:2.0
PRODID:-//Barry Community Choir - ECPv6.13.2.1//NONSGML v1.0//EN
CALSCALE:GREGORIAN
METHOD:PUBLISH
X-WR-CALNAME:Barry Community Choir
X-ORIGINAL-URL:https://www.barrycommunitychoir.com
X-WR-CALDESC:Events for Barry Community Choir
REFRESH-INTERVAL;VALUE=DURATION:PT1H
X-Robots-Tag:noindex
X-PUBLISHED-TTL:PT1H
BEGIN:VTIMEZONE
TZID:Europe/London
BEGIN:DAYLIGHT
TZOFFSETFROM:+0000
TZOFFSETTO:+0100
TZNAME:BST
DTSTART:20250330T010000
END:DAYLIGHT
BEGIN:STANDARD
TZOFFSETFROM:+0100
TZOFFSETTO:+0000
TZNAME:GMT
DTSTART:20251026T010000
END:STANDARD
END:VTIMEZONE
BEGIN:VEVENT
DTSTART;TZID=Europe/London:20250409T190000
DTEND;TZID=Europe/London:20250409T203000
DTSTAMP:20260421T161826
CREATED:20250409T095920Z
LAST-MODIFIED:20250409T095920Z
UID:380-1744225200-1744230600@www.barrycommunitychoir.com
SUMMARY:Rehearsal
DESCRIPTION:
URL:https://www.barrycommunitychoir.com/event/rehearsal/
LOCATION:St John Methodist Church\, Friars Road\, Barry Island\, CF62 5TR\, United Kingdom
CATEGORIES:Rehearsal
END:VEVENT
END:VCALENDAR